BEGIN:VCALENDAR
VERSION:2.0
PRODID:-//Weston Favell Allotments - ECPv6.15.20//NONSGML v1.0//EN
CALSCALE:GREGORIAN
METHOD:PUBLISH
X-ORIGINAL-URL:https://westonfavellallotments.co.uk
X-WR-CALDESC:Events for Weston Favell Allotments
REFRESH-INTERVAL;VALUE=DURATION:PT1H
X-Robots-Tag:noindex
X-PUBLISHED-TTL:PT1H
BEGIN:VTIMEZONE
TZID:UTC
BEGIN:STANDARD
TZOFFSETFROM:+0000
TZOFFSETTO:+0000
TZNAME:UTC
DTSTART:20240101T000000
END:STANDARD
END:VTIMEZONE
BEGIN:VEVENT
DTSTART;TZID=UTC:20251014T193000
DTEND;TZID=UTC:20251014T210000
DTSTAMP:20260422T173159
CREATED:20251006T155437Z
LAST-MODIFIED:20251006T155444Z
UID:1904-1760470200-1760475600@westonfavellallotments.co.uk
SUMMARY:Weston Favell Allotment AGM
DESCRIPTION:It’s your allotment – come and have your say \n  \nRefreshments available from 7:00pm
URL:https://westonfavellallotments.co.uk/event/weston-favell-allotment-agm/
END:VEVENT
END:VCALENDAR